BEGIN:VCALENDAR
VERSION:2.0
BEGIN:VEVENT
URL:https://brassmonkey.oztix.com.au/outlet/event/ee1ae3b1-1d64-4bad-8bd6-8c614c1112e1
DTSTART:20260808T083000Z
DTEND:20260808T083000Z
SUMMARY:Rumours: A Tribute to Fleetwood Mac
DESCRIPTION:Event details: https://brassmonkey.oztix.com.au/outlet/event/ee1ae3b1-1d64-4bad-8bd6-8c614c1112e1
LOCATION:Brass Monkey (Cronulla, NSW)
END:VEVENT
END:VCALENDAR