BEGIN:VCALENDAR
VERSION:2.0
BEGIN:VEVENT
URL:https://brassmonkey.oztix.com.au/outlet/event/a28aaf5d-3683-43de-9673-cc8921f9901e
DTSTART:20260918T083000Z
DTEND:20260918T083000Z
SUMMARY:Alex Lloyd
DESCRIPTION:Event details: https://brassmonkey.oztix.com.au/outlet/event/a28aaf5d-3683-43de-9673-cc8921f9901e
LOCATION:Brass Monkey (Cronulla, NSW)
END:VEVENT
END:VCALENDAR