BEGIN:VCALENDAR
VERSION:2.0
BEGIN:VEVENT
URL:https://brassmonkey.oztix.com.au/outlet/event/23642c90-d9f0-49a1-9b65-cd67bbdaaefb
DTSTART:20210604T103000Z
DTEND:20210604T103000Z
SUMMARY:Cronulla Jazz & Blues Festival Presents: Clayton Doley’s Bayou Billabong – Late Show
DESCRIPTION:Event details: https://brassmonkey.oztix.com.au/outlet/event/23642c90-d9f0-49a1-9b65-cd67bbdaaefb
LOCATION:Brass Monkey (Cronulla, NSW)
END:VEVENT
END:VCALENDAR